BEGIN:VCALENDAR
VERSION:2.0
PRODID:-//Latino Childcare Association of Maryland - ECPv6.15.20//NONSGML v1.0//EN
CALSCALE:GREGORIAN
METHOD:PUBLISH
X-ORIGINAL-URL:https://latinochildcareassociationmd.com
X-WR-CALDESC:Eventos para Latino Childcare Association of Maryland
REFRESH-INTERVAL;VALUE=DURATION:PT1H
X-Robots-Tag:noindex
X-PUBLISHED-TTL:PT1H
BEGIN:VTIMEZONE
TZID:America/New_York
BEGIN:DAYLIGHT
TZOFFSETFROM:-0500
TZOFFSETTO:-0400
TZNAME:EDT
DTSTART:20240310T070000
END:DAYLIGHT
BEGIN:STANDARD
TZOFFSETFROM:-0400
TZOFFSETTO:-0500
TZNAME:EST
DTSTART:20241103T060000
END:STANDARD
BEGIN:DAYLIGHT
TZOFFSETFROM:-0500
TZOFFSETTO:-0400
TZNAME:EDT
DTSTART:20250309T070000
END:DAYLIGHT
BEGIN:STANDARD
TZOFFSETFROM:-0400
TZOFFSETTO:-0500
TZNAME:EST
DTSTART:20251102T060000
END:STANDARD
BEGIN:DAYLIGHT
TZOFFSETFROM:-0500
TZOFFSETTO:-0400
TZNAME:EDT
DTSTART:20260308T070000
END:DAYLIGHT
BEGIN:STANDARD
TZOFFSETFROM:-0400
TZOFFSETTO:-0500
TZNAME:EST
DTSTART:20261101T060000
END:STANDARD
BEGIN:DAYLIGHT
TZOFFSETFROM:-0500
TZOFFSETTO:-0400
TZNAME:EDT
DTSTART:20270314T070000
END:DAYLIGHT
BEGIN:STANDARD
TZOFFSETFROM:-0400
TZOFFSETTO:-0500
TZNAME:EST
DTSTART:20271107T060000
END:STANDARD
END:VTIMEZONE
BEGIN:VEVENT
DTSTART;VALUE=DATE:20250901
DTEND;VALUE=DATE:20261201
DTSTAMP:20260420T000720
CREATED:20250729T142618Z
LAST-MODIFIED:20250729T142744Z
UID:7673-1756684800-1796083199@latinochildcareassociationmd.com
SUMMARY:Trainings Otoño 2025
DESCRIPTION:Trainings Otoño 2025\nEstimadas asociadas de LCAM\, tenemos el gusto de presentar nuestro programa de entrenamientos para el otoño 2025.  Inscríbete ahora y reserva tu espacio. \nDear LCAM members\, we are glad to share our training program for autumn 2025. Enroll now and save your spot! \n\nSEPTIEMBRE 2025\nECS057 Trastornos del desarrollo sensorial en la infancia (9 horas de Necesidades Especiales)\nEste curso incluye aplicaciones prácticas para maestros para ayudar a los niños a superar los desafíos de los problemas sensoriales mediante la comprensión y la introducción de estrategias de intervención temprana. (0.9 CEUs) \nFecha y Hora: \n\nLunes 15\, Miércoles 17 y Lunes 22 de Septiembre /2025\n6:30 p.m. – 9:30 p.m.\nVía Zoom\n\nCosto de LCAM asociad@s: $70.00 Costo No-Asociad@s: $90.00 \nECS089 Método Montessori de lengua y lectoescritura (4 horas de Desarrollo Infantil)\nConozca cómo es abordada la estimulación del área de lenguaje\, cómo se desarrolla la escritura y la lectura bajo la perspectiva de María Montessori. Podrá conocer la relación entre conciencia fonológica\, escritura y lectura entendida como un proceso natural que los niños descubren a partir de un ambiente enriquecido. (0.4 CEUs) \nFecha y Hora: \n\nSábado 20 de Septiembre /2025\n9:00 a.m. – 1:00 p.m.\nPresencial en Rockville Campus\n\nCosto de LCAM asociad@s: $40.00 Costo No-Asociad@s: $60.00 \nECS142 La intencionalidad del juego en los niños (3 horas en Currículo)\nCree y diseñe un entorno de juego en el que los niños puedan acceder a materiales y juguetes que los inviten a explorar y participar en diferentes tipos de juego y desarrollar sus capacidades. (0.3 CEUs) \nFecha y Hora: \n\nMartes 23 de Septiembre /2025\n6:30 p.m. – 9:30 p.m. Vía Zoom\n\nCosto de LCAM asociad@s: $30.00 Costo No-Asociad@s: $50.00 \nECS023 Crecimiento y Desarrollo Infantil (45 horas de Desarrollo Infantil)\nAprenda los principios de las diferentes teorías de desarrollo y crecimiento infantil. Se cubrirá el desarrollo social\, físico\, emocional e intelectual de niños 0 a 8 años en programas de cuidado infantil. Este curso provee 45 de las 90 horas requeridas para trabajar como profesora en centros de guardería. Requiere el libro de texto Fundamentos tercera edición publicado por Council for Professional Recognition in Washington DC. (4.5 CEUs) \nOpción 1 (Lunes y Miércoles): \n\nFecha y Hora:\n\nDel 3 de Septiembre al 22 de Octubre /2025\nLunes vía Zoom y Miércoles en el Campus de Rockville\n6:30 p.m. – 9:30 p.m.\n\n\n\nOpción 2 (Martes y Jueves): \n\nFecha y Hora:\n\nDel 4 de Septiembre al 23 de Octubre /2025\nMartes vía Zoom y Jueves en el Campus de Rockville\n6:30 p.m. – 9:30 p.m. Costo de LCAM asociad@s: $250.00\n\n\n\nCosto No-Asociad@s: $300.00 \nOCTUBRE 2025\nECS059 Diversidad en el ambiente escolar (3 horas en Comunidad)\nObtenga las herramientas y estrategias necesarias para poder acomodar los contenidos educativos desde un enfoque alternativo\, atendiendo a las necesidades de aquellos individuos con características diferentes. (0.3 CEUs) \nFecha y Hora: \n\nJueves 9 de Octubre /2025 6:30 p.m. – 9:30 p.m.\nVía Zoom\n\nCosto de LCAM asociad@s: $30.00 Costo No-Asociad@s: $50.00 \nECS150 Administración de guarderías (45 horas de Profesionalidad)\nDiseñado específicamente para administradores\, este curso ofrece instrucción sobre estrategias de diseño y gestión de programas\, habilidades de liderazgo y supervisión\, desarrollo y mantenimiento de presupuestos\, dotación de personal y requisitos de licencia del Estado de Maryland. (4.5 CEUs) \nFecha y Hora: \n\nLunes y Miércoles\, del 6 de Octubre al 24 de Noviembre /2025\n6:30 p.m. – 9:30 p.m. Vía Zoom\nCosto de LCAM asociad@s: $250.00 Costo No-Asociad@s: $300.00\n\nECS137 Capacitación para proveedores de educación infantil en prevención y atención de asma\, alergias y anafilaxia (4 horas de Salud\, Seguridad y Nutrición)\nGarantice un entorno de cuidado infantil seguro\, identifique y gestione las emergencias relacionadas con el asma y las alergias y prevenga los desencadenantes según el tratamiento/plan de acción del niño y los requisitos establecidos por OCC COMAR. (0.4 CEUs) \nFecha y Hora: \n\nSábado 18 de Octubre /2025\n9:00 a.m. – 1:00 p.m.\nPresencial en Rockville Campus\n\nCosto de LCAM asociad@s: $40.00 Costo No-Asociad@s: $60.00 \nECS027 Planificación de currículos para centros de cuidado infantil (45 horas de Currículo)\nAprenda los principios para la planificación de currículos para guarderías de niños de 0 a 5 años. Se hará énfasis en los métodos\, actividades y materiales apropiados para las diferentes áreas del currículo de cuidado infantil. Se dará una especial atención al área de comunicación entre proveedores y padres\, así como se enseñará a utilizar diferentes recursos comunitarios. Este curso provee las segundas 45 de las 90 horas requeridas para trabajar como profesora en centros de guarderías. Libro de texto Fundamentos\, tercera edición. Se requiere haber tomado ECS023 para tomar este curso. (4.5 CEUs) \nSesiones Hybridas Lunes y Miercoles o Martes y Jueves \nOpción 1 (Lunes y Miércoles): \n\nFecha y Hora:\n\nDel 27 de Octubre al 17 de Diciembre /2025\nLunes vía Zoom y Miércoles en el Campus de Rockville 6:30 p.m. – 9:30 p.m.\n\n\n\nOpción 2 (Martes y Jueves): \n\nFecha y Hora:\n\nDel 28 de Octubre al 18 de Diciembre /2025 (No hay clase el 27 de Noviembre)\nMartes vía Zoom y Jueves en el Campus de Rockville 6:30 p.m. – 9:30 p.m.\n\n\n\nCosto de LCAM asociad@s: $250.00 Costo No-Asociad@s: $300.00 \nECS090 Matemáticas según el modelo Montessori (4 horas de Desarrollo Infantil)\nEn la filosofía Montessori\, los materiales con los que se trabajan las matemáticas construyen una base fuerte en el entendimiento de las cantidades y los símbolos asociados con ello. Aprenda a crear materiales y actividades de matemáticas siguiendo la disciplina Montessori. (0.4 CEUs) \nFecha y Hora: \n\nSábado 25 de Octubre /2025 9:00 a.m. – 1:00 p.m.\nPresencial en Rockville Campus\nCosto de LCAM asociad@s: $40.00 Costo No-Asociad@s: $60.00\n\nNOVIEMBRE 2025\nECS082 Integrando a niños con discapacidades en el aula (3 horas de Necesidades Especiales)\nAprenda estrategias y recursos a desarrollar e implementar para promover la inclusión en el ambiente de aprendizaje. Se revisarán las normas establecidas por la legislación para americanos con discapacidades (ADA) a nivel local\, estatal y federal. (0.3 CEUs) \nFecha y Hora: \n\nMartes 4 de Noviembre /2025\n6:30 p.m. – 9:30 p.m. Vía Zoom\n\nCosto de LCAM asociad@s: $30.00 Costo No-Asociad@s: $50.00 \nECS069 Administración de medicamentos (6 horas de Salud\, Seguridad y Nutrición)\nAprenda las prácticas y procedimientos establecidos por la Oficina del Cuidado al Menor del estado de Maryland para administrar medicamentos a niños en guarderías. Estudie métodos de observación\, registro de datos y técnicas apropiadas de manejo de medicamentos. (0.6 CEUs) \nFecha y Hora: \n\nSábado 8 de Noviembre /2025\n9:00 a.m. – 3:30 p.m. Presencial\n\nCosto de LCAM asociad@s: $60.00 Costo No-Asociad@s: $80.00 \nECS101 Psicofunciones (3 horas de Necesidades Especiales)\nConozca que son las psicofunciones\, como funcionan y como se estimulan para mejorar el aprendizaje de sus pequeños alumnos. Aprenda herramientas prácticas y sencillas que facilitarán su labor docente. (0.3 CEUs) \nFecha y Hora: \n\nMiércoles 19 de Noviembre /2025\n6:30 p.m. – 9:30 p.m. Vía Zoom\n\nCosto de LCAM asociad@s: $30.00 Costo No-Asociad@s: $50.00 \nECS129 Bienestar socioemocional de proveedores de educación infantil (3 horas de Salud\, Seguridad y Nutrición)\nEsta sesión interactiva se centrará en el autocuidado de los proveedores de cuidado infantil. Aprenda estrategias para reconocer y expresar emociones\, resolución de problemas y manejo de la ira. \nFecha y Hora: \n\nJueves 20 de Noviembre /2025\n6:30 p.m. – 9:30 p.m. Vía Zoom\n\nCosto de LCAM asociad@s: $30.00 Costo No-Asociad@s: $50.00 \n\nModalidades de pago:\n\nVia Zelle: 240-817-8422 Latino Child Care Association of Maryland\, Inc.\nVia Venmo: @LCAM-MD\nVía cheque: Latino Child Care Association of Maryland\, Inc. 14700 Good Hope Rd\, Silver Spring\, Maryland 20905\nTarjeta de crédito (costo adicional)\n\n\n¿Interesado en inscribirse?\nSi le interesa reservar un cupo en nuestros trainings por favor escríbenos al teléfono  (240) 883-1699 \, o vía Whatsapp\, o rellene este formulario y le enviaremos información tan pronto como sea posible. El cupo estará garantizado una vez hecho el pago del entrenamiento correspondiente.  \nAll Trainings \n\n\n  \n\n\n\n\n	Nombre completo\n	 \n\n\n	Email Address\n	 \n\n\n	Entrenamiento o curso\n	 \n\n\n	Mensaje\n	 \n\n\n	\n	 \n\n\n\n\n[vc_row][vc_column][vc_empty_space][/vc_column][/vc_row] \n 
URL:https://latinochildcareassociationmd.com/event/trainings-otono-2025/
LOCATION:Maryland
CATEGORIES:Monthly Trainings
ATTACH;FMTTYPE=image/jpeg:https://latinochildcareassociationmd.com/wp-content/uploads/2025/07/Trainings-Otono-2025.jpg
ORGANIZER;CN="LCAM":MAILTO:info@lcam-md.com
END:VEVENT
END:VCALENDAR