BEGIN:VCALENDAR
VERSION:2.0
PRODID:-//Latino Childcare Association of Maryland - ECPv6.15.20//NONSGML v1.0//EN
CALSCALE:GREGORIAN
METHOD:PUBLISH
X-ORIGINAL-URL:https://latinochildcareassociationmd.com
X-WR-CALDESC:Eventos para Latino Childcare Association of Maryland
REFRESH-INTERVAL;VALUE=DURATION:PT1H
X-Robots-Tag:noindex
X-PUBLISHED-TTL:PT1H
BEGIN:VTIMEZONE
TZID:America/New_York
BEGIN:DAYLIGHT
TZOFFSETFROM:-0500
TZOFFSETTO:-0400
TZNAME:EDT
DTSTART:20240310T070000
END:DAYLIGHT
BEGIN:STANDARD
TZOFFSETFROM:-0400
TZOFFSETTO:-0500
TZNAME:EST
DTSTART:20241103T060000
END:STANDARD
BEGIN:DAYLIGHT
TZOFFSETFROM:-0500
TZOFFSETTO:-0400
TZNAME:EDT
DTSTART:20250309T070000
END:DAYLIGHT
BEGIN:STANDARD
TZOFFSETFROM:-0400
TZOFFSETTO:-0500
TZNAME:EST
DTSTART:20251102T060000
END:STANDARD
BEGIN:DAYLIGHT
TZOFFSETFROM:-0500
TZOFFSETTO:-0400
TZNAME:EDT
DTSTART:20260308T070000
END:DAYLIGHT
BEGIN:STANDARD
TZOFFSETFROM:-0400
TZOFFSETTO:-0500
TZNAME:EST
DTSTART:20261101T060000
END:STANDARD
BEGIN:DAYLIGHT
TZOFFSETFROM:-0500
TZOFFSETTO:-0400
TZNAME:EDT
DTSTART:20270314T070000
END:DAYLIGHT
BEGIN:STANDARD
TZOFFSETFROM:-0400
TZOFFSETTO:-0500
TZNAME:EST
DTSTART:20271107T060000
END:STANDARD
END:VTIMEZONE
BEGIN:VEVENT
DTSTART;VALUE=DATE:20250901
DTEND;VALUE=DATE:20261201
DTSTAMP:20260419T173143
CREATED:20250729T142618Z
LAST-MODIFIED:20250729T142744Z
UID:7673-1756684800-1796083199@latinochildcareassociationmd.com
SUMMARY:Trainings Otoño 2025
DESCRIPTION:Trainings Otoño 2025\nEstimadas asociadas de LCAM\, tenemos el gusto de presentar nuestro programa de entrenamientos para el otoño 2025.  Inscríbete ahora y reserva tu espacio. \nDear LCAM members\, we are glad to share our training program for autumn 2025. Enroll now and save your spot! \n\nSEPTIEMBRE 2025\nECS057 Trastornos del desarrollo sensorial en la infancia (9 horas de Necesidades Especiales)\nEste curso incluye aplicaciones prácticas para maestros para ayudar a los niños a superar los desafíos de los problemas sensoriales mediante la comprensión y la introducción de estrategias de intervención temprana. (0.9 CEUs) \nFecha y Hora: \n\nLunes 15\, Miércoles 17 y Lunes 22 de Septiembre /2025\n6:30 p.m. – 9:30 p.m.\nVía Zoom\n\nCosto de LCAM asociad@s: $70.00 Costo No-Asociad@s: $90.00 \nECS089 Método Montessori de lengua y lectoescritura (4 horas de Desarrollo Infantil)\nConozca cómo es abordada la estimulación del área de lenguaje\, cómo se desarrolla la escritura y la lectura bajo la perspectiva de María Montessori. Podrá conocer la relación entre conciencia fonológica\, escritura y lectura entendida como un proceso natural que los niños descubren a partir de un ambiente enriquecido. (0.4 CEUs) \nFecha y Hora: \n\nSábado 20 de Septiembre /2025\n9:00 a.m. – 1:00 p.m.\nPresencial en Rockville Campus\n\nCosto de LCAM asociad@s: $40.00 Costo No-Asociad@s: $60.00 \nECS142 La intencionalidad del juego en los niños (3 horas en Currículo)\nCree y diseñe un entorno de juego en el que los niños puedan acceder a materiales y juguetes que los inviten a explorar y participar en diferentes tipos de juego y desarrollar sus capacidades. (0.3 CEUs) \nFecha y Hora: \n\nMartes 23 de Septiembre /2025\n6:30 p.m. – 9:30 p.m. Vía Zoom\n\nCosto de LCAM asociad@s: $30.00 Costo No-Asociad@s: $50.00 \nECS023 Crecimiento y Desarrollo Infantil (45 horas de Desarrollo Infantil)\nAprenda los principios de las diferentes teorías de desarrollo y crecimiento infantil. Se cubrirá el desarrollo social\, físico\, emocional e intelectual de niños 0 a 8 años en programas de cuidado infantil. Este curso provee 45 de las 90 horas requeridas para trabajar como profesora en centros de guardería. Requiere el libro de texto Fundamentos tercera edición publicado por Council for Professional Recognition in Washington DC. (4.5 CEUs) \nOpción 1 (Lunes y Miércoles): \n\nFecha y Hora:\n\nDel 3 de Septiembre al 22 de Octubre /2025\nLunes vía Zoom y Miércoles en el Campus de Rockville\n6:30 p.m. – 9:30 p.m.\n\n\n\nOpción 2 (Martes y Jueves): \n\nFecha y Hora:\n\nDel 4 de Septiembre al 23 de Octubre /2025\nMartes vía Zoom y Jueves en el Campus de Rockville\n6:30 p.m. – 9:30 p.m. Costo de LCAM asociad@s: $250.00\n\n\n\nCosto No-Asociad@s: $300.00 \nOCTUBRE 2025\nECS059 Diversidad en el ambiente escolar (3 horas en Comunidad)\nObtenga las herramientas y estrategias necesarias para poder acomodar los contenidos educativos desde un enfoque alternativo\, atendiendo a las necesidades de aquellos individuos con características diferentes. (0.3 CEUs) \nFecha y Hora: \n\nJueves 9 de Octubre /2025 6:30 p.m. – 9:30 p.m.\nVía Zoom\n\nCosto de LCAM asociad@s: $30.00 Costo No-Asociad@s: $50.00 \nECS150 Administración de guarderías (45 horas de Profesionalidad)\nDiseñado específicamente para administradores\, este curso ofrece instrucción sobre estrategias de diseño y gestión de programas\, habilidades de liderazgo y supervisión\, desarrollo y mantenimiento de presupuestos\, dotación de personal y requisitos de licencia del Estado de Maryland. (4.5 CEUs) \nFecha y Hora: \n\nLunes y Miércoles\, del 6 de Octubre al 24 de Noviembre /2025\n6:30 p.m. – 9:30 p.m. Vía Zoom\nCosto de LCAM asociad@s: $250.00 Costo No-Asociad@s: $300.00\n\nECS137 Capacitación para proveedores de educación infantil en prevención y atención de asma\, alergias y anafilaxia (4 horas de Salud\, Seguridad y Nutrición)\nGarantice un entorno de cuidado infantil seguro\, identifique y gestione las emergencias relacionadas con el asma y las alergias y prevenga los desencadenantes según el tratamiento/plan de acción del niño y los requisitos establecidos por OCC COMAR. (0.4 CEUs) \nFecha y Hora: \n\nSábado 18 de Octubre /2025\n9:00 a.m. – 1:00 p.m.\nPresencial en Rockville Campus\n\nCosto de LCAM asociad@s: $40.00 Costo No-Asociad@s: $60.00 \nECS027 Planificación de currículos para centros de cuidado infantil (45 horas de Currículo)\nAprenda los principios para la planificación de currículos para guarderías de niños de 0 a 5 años. Se hará énfasis en los métodos\, actividades y materiales apropiados para las diferentes áreas del currículo de cuidado infantil. Se dará una especial atención al área de comunicación entre proveedores y padres\, así como se enseñará a utilizar diferentes recursos comunitarios. Este curso provee las segundas 45 de las 90 horas requeridas para trabajar como profesora en centros de guarderías. Libro de texto Fundamentos\, tercera edición. Se requiere haber tomado ECS023 para tomar este curso. (4.5 CEUs) \nSesiones Hybridas Lunes y Miercoles o Martes y Jueves \nOpción 1 (Lunes y Miércoles): \n\nFecha y Hora:\n\nDel 27 de Octubre al 17 de Diciembre /2025\nLunes vía Zoom y Miércoles en el Campus de Rockville 6:30 p.m. – 9:30 p.m.\n\n\n\nOpción 2 (Martes y Jueves): \n\nFecha y Hora:\n\nDel 28 de Octubre al 18 de Diciembre /2025 (No hay clase el 27 de Noviembre)\nMartes vía Zoom y Jueves en el Campus de Rockville 6:30 p.m. – 9:30 p.m.\n\n\n\nCosto de LCAM asociad@s: $250.00 Costo No-Asociad@s: $300.00 \nECS090 Matemáticas según el modelo Montessori (4 horas de Desarrollo Infantil)\nEn la filosofía Montessori\, los materiales con los que se trabajan las matemáticas construyen una base fuerte en el entendimiento de las cantidades y los símbolos asociados con ello. Aprenda a crear materiales y actividades de matemáticas siguiendo la disciplina Montessori. (0.4 CEUs) \nFecha y Hora: \n\nSábado 25 de Octubre /2025 9:00 a.m. – 1:00 p.m.\nPresencial en Rockville Campus\nCosto de LCAM asociad@s: $40.00 Costo No-Asociad@s: $60.00\n\nNOVIEMBRE 2025\nECS082 Integrando a niños con discapacidades en el aula (3 horas de Necesidades Especiales)\nAprenda estrategias y recursos a desarrollar e implementar para promover la inclusión en el ambiente de aprendizaje. Se revisarán las normas establecidas por la legislación para americanos con discapacidades (ADA) a nivel local\, estatal y federal. (0.3 CEUs) \nFecha y Hora: \n\nMartes 4 de Noviembre /2025\n6:30 p.m. – 9:30 p.m. Vía Zoom\n\nCosto de LCAM asociad@s: $30.00 Costo No-Asociad@s: $50.00 \nECS069 Administración de medicamentos (6 horas de Salud\, Seguridad y Nutrición)\nAprenda las prácticas y procedimientos establecidos por la Oficina del Cuidado al Menor del estado de Maryland para administrar medicamentos a niños en guarderías. Estudie métodos de observación\, registro de datos y técnicas apropiadas de manejo de medicamentos. (0.6 CEUs) \nFecha y Hora: \n\nSábado 8 de Noviembre /2025\n9:00 a.m. – 3:30 p.m. Presencial\n\nCosto de LCAM asociad@s: $60.00 Costo No-Asociad@s: $80.00 \nECS101 Psicofunciones (3 horas de Necesidades Especiales)\nConozca que son las psicofunciones\, como funcionan y como se estimulan para mejorar el aprendizaje de sus pequeños alumnos. Aprenda herramientas prácticas y sencillas que facilitarán su labor docente. (0.3 CEUs) \nFecha y Hora: \n\nMiércoles 19 de Noviembre /2025\n6:30 p.m. – 9:30 p.m. Vía Zoom\n\nCosto de LCAM asociad@s: $30.00 Costo No-Asociad@s: $50.00 \nECS129 Bienestar socioemocional de proveedores de educación infantil (3 horas de Salud\, Seguridad y Nutrición)\nEsta sesión interactiva se centrará en el autocuidado de los proveedores de cuidado infantil. Aprenda estrategias para reconocer y expresar emociones\, resolución de problemas y manejo de la ira. \nFecha y Hora: \n\nJueves 20 de Noviembre /2025\n6:30 p.m. – 9:30 p.m. Vía Zoom\n\nCosto de LCAM asociad@s: $30.00 Costo No-Asociad@s: $50.00 \n\nModalidades de pago:\n\nVia Zelle: 240-817-8422 Latino Child Care Association of Maryland\, Inc.\nVia Venmo: @LCAM-MD\nVía cheque: Latino Child Care Association of Maryland\, Inc. 14700 Good Hope Rd\, Silver Spring\, Maryland 20905\nTarjeta de crédito (costo adicional)\n\n\n¿Interesado en inscribirse?\nSi le interesa reservar un cupo en nuestros trainings por favor escríbenos al teléfono  (240) 883-1699 \, o vía Whatsapp\, o rellene este formulario y le enviaremos información tan pronto como sea posible. El cupo estará garantizado una vez hecho el pago del entrenamiento correspondiente.  \nAll Trainings \n\n\n  \n\n\n\n\n	Nombre completo\n	 \n\n\n	Email Address\n	 \n\n\n	Entrenamiento o curso\n	 \n\n\n	Mensaje\n	 \n\n\n	\n	 \n\n\n\n\n[vc_row][vc_column][vc_empty_space][/vc_column][/vc_row] \n 
URL:https://latinochildcareassociationmd.com/event/trainings-otono-2025/
LOCATION:Maryland
CATEGORIES:Monthly Trainings
ATTACH;FMTTYPE=image/jpeg:https://latinochildcareassociationmd.com/wp-content/uploads/2025/07/Trainings-Otono-2025.jpg
ORGANIZER;CN="LCAM":MAILTO:info@lcam-md.com
END:VEVENT
BEGIN:VEVENT
DTSTART;VALUE=DATE:20260101
DTEND;VALUE=DATE:20260501
DTSTAMP:20260419T173143
CREATED:20251215T164349Z
LAST-MODIFIED:20251216T191110Z
UID:7943-1767225600-1777593599@latinochildcareassociationmd.com
SUMMARY:Trainings Primavera 2026
DESCRIPTION:Trainings Primavera 2026\nEstimadas asociadas de LCAM\, tenemos el gusto de presentar nuestro programa de entrenamientos para la primavera de 2026.  Inscríbete ahora y reserva tu espacio. \nDear LCAM members\, we are glad to share our training program for Spring 2026\, from January to April. Enroll now and save your spot! \n\nENERO\nECS023 Crecimiento y desarrollo infantil (45 horas)\,  (ÁREA: Desarrollo infantil / Child Development) \nPrimera Parte de las 90 hrs. \nAprenda los principios de las diferentes teorías de desarrollo y crecimiento infantil. Se cubrirá el desarrollo social\, físico\, emocional e intelectual de niños de 0 a 8 años en programas de cuidado infantil. Este curso provee las primeras 45 de las 90 horas requeridas para trabajar como en programas de cuidado infantil en el hogar y en centros de guardería. Requiere el libro de texto Fundamentos tercera edición publicado por Council for Professional Recognition in Washington DC. \nOPCION #1: VIA ZOOM -LUNES y SABADO \nFecha y Hora: \nSábado 24 de Enero/2026 – Sábado 14 de Marzo/2026 \nLunes: 6:30 a 9:30PM \nSabado: 9:00am a  12:00pm \nCosto de LCAM Asociad@s: $240.00 (Costo regular $350.00) \nNota: El costo no incluye el libro. \nOPCION # 2: HIBRIDA (MARTES y JUEVES) \nFecha y Hora: \nJueves 22 de Enero/2026 -Jueves 12 de Marzo/2026\, \n6:30 p.m. – 9:30 p.m. \nMartes vía Zoom & Jueves en Rockville Campus \nCosto de LCAM Asociad@s: $240.00 (Costo regular $350.00) \nNota: El costo no incluye el libro. \nECS128 Desarrollo infantil: Enfoque Montessori del desarrollo del niño de 0 a 3 años (4hrs)\nFamiliarícese con las características de desarrollo del niño de 0 – 3 años y el rol que cumple el adulto en este proceso de acuerdo a María Montessori. Hablaremos del respeto a la persona del niño y analizaremos sus períodos sensitivos de movimiento\, orden y lenguaje. Discutiremos la importancia de la independencia y autonomía del niño y cómo fomentarla desde las etapas más tempranas. \nFecha y Hora: \nSábado 24 de Enero/2026  (4 horas) \n9:00 a.m. – 1:00 p.m. \nSábado\, in-person East County Educational Center-Campus \nCosto LCAM Asociad@s: $30.00 (Costo regular $60.00) \nFEBRERO\nECS049 Desarrollo y planificación de currículo para bebés\, (45 horas)\, (45 hrs de Currículo) \nEste curso está basado en investigaciones más actuales\, así como también en teorías y prácticas para el cuidado de bebés y niños pequeños. Los tópicos incluyen la importancia de los primeros años en los bebes\, actividades apropiadas a desarrollar con ellos\, y cómo mantener la seguridad\, nutrición y salud de los pequeños. \nFecha y Hora: \nLunes 09 de Febrero – Lunes 6 de Abril/2026 \n6:30PM-9:30PM- Lunes y Miercoles: VIA ZOOM \nCosto de LCAM: $240.00 (Costo regular $300.00) \nCurso ECS 028: Preparación para la credencial del CDA: 30 hrs de Profesionalismo\nPreparación para la credencial de desarrollo infantil: Desarrolle su portafolio de recursos profesional requerida para la credencial de desarrollo infantil (CDA) otorgada por el Consejo de Reconocimiento Profesional de Washington\, D.C. \nRequisitos previos: ECS023 y ECS027 o ECS049. \nSe requiere libro de texto: Normas de competencia CDA . \nFecha y Hora: \nComienza: Febrero\, Sábado 07 y \nTermina: Marzo\, Sábado 14 /2026 \n9:00AM a 2:30PM \nROCKVILLE\, Campus-PRESENCIAL \nCosto de LCAM Asociad@s: $200.00 \nCosto No-Asociad@s $300.00 \nECS139 Conocimiento básico de salud\, seguridad\, y lactancia\, (Salud\, Seguridad\, Nutrición) (3 horas)\nMSDE requiere tomar esta capacitación sobre salud\, seguridad y lactancia. Obtenga un conocimiento general sobre todos los temas de salud\, seguridad\, y lactancia necesarios para aplicar las mejores prácticas y los requisitos obligatorios en las áreas temáticas requeridas \nFecha y Hora: \nMiercoles\, Febrero 11/0226 \n6:30 a 9:30PM \nVia Zoom \nCosto LCAM Asociad@s: $20.00 (Costo regular $50.00) \nECS145 Aula Montessori\, (4 horas)\nEntienda la relación entre entorno físico y el desarrollo de los niños\, cómo promover las habilidades motoras y el pensamiento independiente a través de la configuración y el diseño del aula Montessori. \nFecha y Hora: \nSábado 28\, de Febrero/2026 \, \n9:00 a.m. – 1:00 p.m. \nEast County Educational Center- PRESENCIAL \nCosto LCAM Asociad@s: $30.00 (Costo regular $60.00) \n  \nMARZO\nECS069 Administración de medicamentos\, (6 horas)\, (Salud\, seguridad\, nutrición /  Health\, Safety\, and Nutrición)  \nAprenda las prácticas y procedimientos establecidos por la Oficina del Cuidado al Menor del estado de Maryland para administrar medicamentos a niños en guarderías. Estudie métodos de observación\, registro de datos y técnicas apropiadas de manejo de medicamentos. \nFecha y Hora: \nSábado 14 de Marzo/2025\, \n9:00 a.m. – 3:30 p.m. \nPRESENCIAL- Rockville Campus \nCosto de LCAM Asociad@s: $40.00 (Costo regular $60.00) \nECS125 Necesidades especiales: Módulo I\, (6 horas de Necesidades Especiales)\nIdentifique las etapas atípicas del desarrollo infantil. Ponga en práctica estrategias y utilice instrumentos que ayuda a cerrar la brecha en el desarrollo de estos niños. \nFechas y Hora:  \nMartes 24 de Marzo/2026 – Jueves 26 de Marzo/2026\, \n 6:30 p.m. – 9:30 p.m.  Via Zoom \nCosto de LCAM asociad@s: $40.00 (Costo regular $60.00) \nECS027\, Planificación de currículos para centros de cuidado infantil\, (45 horas)\nAprenda los principios de currículos para la planificación de currículos para  guardería de niños de 0 a 5 años. Se hará énfasis en los métodos\, actividades y materiales apropiados para las diferentes áreas del currículo de cuidado infantil. Se dará una especial atención al área de comunicación entre proveedores y padres\, así como se enseñará a utilizar diferentes recursos comunitarios. \nSegundas 45 horas de las 90  horas. Requeridas para trabajar como profesora en centros de guarderías. Libro de texto fundamentos\, tercera edición. Se requiere haber tomado ECS023. \nOPCION # 1 (MARTES y JUEVES)-HIBRIDO \nMartes 24 de Marzo/2026 – Martes12 de Mayo/2026. \n6:30 p.m. – 9:30 p.m. Hybrid: Martes via Zoom &  Jueves in-person\, \nMC-Campus de Rockville. \nOPCION # 2 (LUNES y SABADO)-ZOOM \nLunes  23 de Marzo/2026 – Lunes 11 de Mayo /2026. \nLunes: 6:30 a 9:30PM- Sábado: 9:00am a 12:00M \nVia Zoom \nCosto de LCAM Asociad@s: $240.00 (Costo regular $300.00) \n  \nABRIL\nECS061 Estrategias para fomentar el buen comportamiento en los niños\, (4 horas)\nAprenda como guiar a los niños a expresar sus sentimientos\, sus necesidades y como resolver conflictos con otros. La implementación de diferentes estrategias ayudara a los niños a conservar su autoestima e impulsar un ambiente de cooperación entre ellos. \nFecha y Hora: \nJueves 9\, de abril/2026\, \n6:30 a 9:30 p.m. Via Zoom \nCosto LCAM Asociad@s: $30.00 (Costo regular $60.00) \nCurso: ECS 082: Integrando a niños con discapacidades en el aula: (ADA)3hrs. Necesidades Especiales\nAprenda estrategias y recursos a desarrollar e implementar para promover la inclusión en el ambiente de aprendizaje. Se revisarán las normas establecidas por la legislación para americanos con discapacidades (ADA) a nivel local\, estatal y federal \nFecha y Hora: \nAbril\, Miercoles 15 \nVia Zoom \n6:30 PM a 9:30PM. \nCosto de LCAM Asociad@s: $20.00 \nCosto No-Asociad@s $55.00) \nECS056  Introduccion a la teoría educativa de Reggio Emilia NEW (9 horas)  (Desarrollo Infantil) \nAprenda sobre el enfoque pedagógico Reggio Emilia que se centra em las artes\, la creatividad y la curiosidad del niño. Esta filosofía se basa en la creencia de que los niños son naturalmente curiosos\, fuertes y capaces\, el aprendizaje debe ser un proceso de descubrimiento y construcción y se adapta a cada contexto cultural. \nFecha y Hora: El curso se completa en tres sesiones: \nMartes 21 de abril\, \nJueves 23 de abril y \nMartes 28 de abril/2026. \nvía Zoom \nCosto de LCAM Asociad@s: $60.00  \n\nModalidades de pago:\n\nVia Zelle: 240-817-8422 Latino Child Care Association of Maryland\, Inc.\nVia Venmo: @LCAM-MD\nVía cheque: Latino Child Care Association of Maryland\, Inc. 14700 Good Hope Rd\, Silver Spring\, Maryland 20905\nTarjeta de crédito (costo adicional)\n\n\n¿Interesado en inscribirse?\nSi le interesa reservar un cupo en nuestros trainings por favor escríbenos al teléfono  (240) 883-1699 \, o vía Whatsapp\, o rellene este formulario y le enviaremos información tan pronto como sea posible. El cupo estará garantizado una vez hecho el pago del entrenamiento correspondiente.  \nAll Trainings \n\n\n  \n\n\n\n\n	Nombre completo\n	 \n\n\n	Email Address\n	 \n\n\n	Entrenamiento o curso\n	 \n\n\n	Mensaje\n	 \n\n\n	\n	 \n\n\n\n\n[vc_row][vc_column][vc_empty_space][/vc_column][/vc_row] \n 
URL:https://latinochildcareassociationmd.com/event/trainings-primavera-2026/
LOCATION:Maryland
CATEGORIES:Monthly Trainings
ATTACH;FMTTYPE=image/jpeg:https://latinochildcareassociationmd.com/wp-content/uploads/2025/12/Trainings-Primavera-2026.jpg
ORGANIZER;CN="LCAM":MAILTO:info@lcam-md.com
END:VEVENT
BEGIN:VEVENT
DTSTART;VALUE=DATE:20260401
DTEND;VALUE=DATE:20260901
DTSTAMP:20260419T173143
CREATED:20260411T233847Z
LAST-MODIFIED:20260411T235605Z
UID:8007-1775001600-1788220799@latinochildcareassociationmd.com
SUMMARY:Trainings Verano 2026
DESCRIPTION:Trainings Verano 2026\nEstimadas asociadas de LCAM\, tenemos el gusto de presentar nuestro programa de entrenamientos para el verano 2026.  Inscríbete ahora y reserva tu espacio. \nDear LCAM members\, we are glad to share our training program for Summer 2026. Enroll now and save your spot! \n\nSALUD\, SEGURIDAD\, NUTRICIÓN\nECS063 Preparación para emergencias\nAprenda los pasos a seguir en situaciones de emergencias y/o desastres naturales. Desarrolle un plan de emergencia detallado a seguir en caso de ser necesario. Este plan puede ser tanto para centros de educación infantil como para guarderías en casa. (0.6 CEUs). 6hrs. Salud\, Seguridad y Nutrición. \nFecha y Hora: \n\nSábado 30 de Mayo/2026\n9:00 am a 3:30pm\nModalidad virtual- Vía Zoom\nCosto LCAM Asociad@s: $40.00.\n\nCPR-AED and First Aid | Modalidad Híbrida \nEste entrenamiento reúne los requisitos que exige el MSDE para trabajar con niños pequeños en un ambiente regulado\, garantizando el cumplimiento de las normas de seguridad y bienestar infantil. \nFecha y Hora: \n\nJueves 28 de Mayo\, parte Virtual de 6:30pm a 9:30pm\nSábado 30 de Mayo\, parte Práctica de 9:00am a 12:00m\nCosto LCAM Asociad@s: $60.00. Costo regular $95.00\n\nJUNIO: PROFESIONALIDAD\nECS060 Mejore la administración de su guardería\nPlanee\, organice\, gestione y controle los recursos humanos\, financieros\, materiales y tecnológicos de su guardería con el fin de obtener resultados positivos y mejorar la administración. (CEUs 0.3). 3hrs de Profesionalismo \nFecha y Hora: \n\nMartes 02 de Junio/2026\n6:30pm a 9:30 pm.\nModalidad virtual- Vía Zoom\nCosto LCAM Asociad@s: $20.00. Costo regular $30.00\n\nNECESIDADES ESPECIALES\nECS092 Comunicación con el niño autista\nEl autismo es un trastorno de la comunicación socio-afectiva con conductas atípicas. En esta clase aprenderá a como propiciar y promover la comunicación con niños autistas y lograr el uso de alternativas a través de diferentes métodos. (0.4 CEUs) 4hrs Necesidades Especiales \nFecha y Hora: \n\nMartes 16 y Jueves 18 de Junio/2026\n6:30pm a 8:30 pm.\nModalidad virtual- Vía Zoom\nCosto LCAM Asociad@s: $40.00. Costo regular $60.00 \n\nPROFESIONALIDAD\nECS 028: Preparación para la certificación del CDA: 30 hrs de Profesionalismo\nPreparación para la credencial de desarrollo infantil: Desarrolle su portafolio de recursos profesional requerida para la credencial de desarrollo infantil (CDA) otorgada por el Consejo de Reconocimiento Profesional de Washington\, D.C.  30hrs profesionalismo. \nRequisitos previos: ECS023 y ECS027 o ECS049. \nSe requiere libro de texto: Normas de competencia CDA . \nFecha y Hora: \n\nJueves 18 de Junio al Martes 28 de Julio/2026\nMartes y Jueves\n6:30 pm a 9:30 pm\nModalidad virtual- Vía Zoom\nCosto LCAM Asociad@s: $200.00. Costo regular $250.00\n\nCURRÍCULO\nECS068: Desarrollando inteligencias múltiples\nAprenda sobre las inteligencias múltiples descritas por la teoría de Howard Gardner que comprenden la inteligencia musical\, corporal o cinestésica\, lingüística\, lógico-matemático\, espacial\, interpersonal\, intrapersonal y naturista. (0.4 CEUs) 4hrs-Curriculo \nFecha y Hora: \n\nSábado 27 de Junio 2026\n9:00 a.m. a 1:00 p.m.\nModalidad virtual- Vía Zoom\nCosto LCAM Asociad@s: $40.00. Costo regular $60.00\n\nSALUD\, SEGURIDAD\, NUTRICIÓN\nCourse: ECS069 Administración de medicamentos\nAprenda las prácticas y procedimientos establecidos por la Oficina del Cuidado al Menor del estado de Maryland para administrar medicamentos a niños en guarderías. Estudie métodos de observación\, registro de datos y técnicas apropiadas de manejo de medicamentos. (0.6 CEUs). 6hrs Salud\, Seguridad y Nutrición \nFecha y Hora: \n\nSábado 27 de junio/2026\n9:00 am a 3:30pm\nModalidad PRESENCIAL-Campus de Rockville\nCosto LCAM Asociad@s: $40.00.\n\nAGOSTO | SALUD\, SEGURIDAD\, NUTRICIÓN\nECS102 Síndromes del bebé sacudido y de muerte súbita\nAumente su conocimiento sobre las formas en que pueden proteger a los bebés de los riesgos del síndrome de muerte súbita (SIDS en inglés) y del síndrome del bebé sacudido (SBS). Durante el curso se le presentarán estrategias preventivas y de reducción de riesgos diseñadas para mantener a los bebés seguros. (0.3 CEUs). 3hrs de Salud\, Seguridad y Nutrición. \nFecha y Hora: \n\nMiercoles 12 de Agosto/2026.\n6:30pm a 9:30pm\nModalidad virtual- Vía Zoom\nCosto LCAM Asociad@s: $30.00\n\nPROFESIONALIDAD\nECS042Técnicas de comunicación\nAprenda conceptos básicos de la comunicación. El tema a cubrir es la comunicación oral y escrita con padres y compañeros que toma lugar en el día a día de los centros de educación infantil. (0.9 CEUs). 9hrs de Profesionalismo \nFecha y Hora: \n\nMartes 18\, Miercoles 19 y Jueves 20 de Agosto/2026/\n6:30pm a 9:30pm\nModalidad virtual- Vía Zoom\nCosto LCAM Asociad@s: $60.00\n\nDESARROLLO INFANTIL\nECS056 Introducción a la teoría educativa de Reggio Emilia\nAprenda sobre el enfoque pedagógico de Reggio Emilia que se centra en las artes\, la creatividad y la curiosidad del niño. Esta filosofía se basa en la creencia de que los niños son naturalmente curiosos\, fuertes y capaces\, el aprendizaje debe ser un proceso de descubrimiento y construcción y se adapta a cada contexto cultural (0.9 CEUs) 9hrs-Desarrollo Infantil \nFecha y Hora: \n\nMartes 25\, Miercoles 26 y Jueves 27 de Agosto/2026/\n6:30pm a 9:30pm\nModalidad virtual- Vía Zoom\nCosto LCAM Asociad@s: $90.00\n\n\nModalidades de pago:\n\nVia Zelle: 240-817-8422 Latino Child Care Association of Maryland\, Inc.\nVia Venmo: @LCAM-MD\nVía cheque: Latino Child Care Association of Maryland\, Inc. 14700 Good Hope Rd\, Silver Spring\, Maryland 20905\nTarjeta de crédito (costo adicional)\n\n\n¿Interesado en inscribirse?\nSi le interesa reservar un cupo en nuestros trainings por favor escríbenos al teléfono  (240) 883-1699 \, o vía Whatsapp\, o rellene este formulario y le enviaremos información tan pronto como sea posible. El cupo estará garantizado una vez hecho el pago del entrenamiento correspondiente.  \nAll Trainings \n\n\n  \n\n\n\n\n	Nombre completo\n	 \n\n\n	Email Address\n	 \n\n\n	Entrenamiento o curso\n	 \n\n\n	Mensaje\n	 \n\n\n	\n	 \n\n\n\n\n[vc_row][vc_column][vc_empty_space][/vc_column][/vc_row] \n 
URL:https://latinochildcareassociationmd.com/event/trainings-verano-2026/
LOCATION:Maryland
CATEGORIES:Monthly Trainings
ATTACH;FMTTYPE=image/jpeg:https://latinochildcareassociationmd.com/wp-content/uploads/2026/04/Trainings-Summer-2026-1.jpg
ORGANIZER;CN="LCAM":MAILTO:info@lcam-md.com
END:VEVENT
BEGIN:VEVENT
DTSTART;TZID=America/New_York:20260401T133000
DTEND;TZID=America/New_York:20260430T143000
DTSTAMP:20260419T173143
CREATED:20260413T000450Z
LAST-MODIFIED:20260413T000703Z
UID:8012-1775050200-1777559400@latinochildcareassociationmd.com
SUMMARY:Inscripción para la MSCCA Conference by the Sea 2026
DESCRIPTION:Inscripción para la MSCCA Conference by the Sea 2026.\n4 de abril\, es la fecha límite para registrarse o hacer cambios en su inscripción para la MSCCA Conference by the Sea 2026.  \n🚨 Importante:• Fecha límite para pagar con voucher de entrenamiento MSDE: 4 de abril.• Si no recibió correo de confirmación\, no está registrado.• Inscripciones sin pago recibido serán canceladas después del 4 de abril.• No hay cancelaciones ni reembolsos después del 4 de abril.• Cambios de nombre en sitio: $10. \n🏨 Aún hay habitaciones con descuento en hoteles sede. \n📧 Preguntas sobre registro: info@mscca.org📧 Vouchers y reembolsos: workforceadvancementocc.msde@maryland.gov \n📌 ¡No pierdas tu oportunidad de participar en la conferencia del año! \n \n*Evento para miembros activos.
URL:https://latinochildcareassociationmd.com/event/inscripcion-para-la-mscca-conference-by-the-sea-2026/
LOCATION:Maryland
CATEGORIES:Eventos
ATTACH;FMTTYPE=image/jpeg:https://latinochildcareassociationmd.com/wp-content/uploads/2026/04/WhatsApp-Image-2026-04-09-at-5.03.42-AM-e1776038812136.jpg
ORGANIZER;CN="LCAM":MAILTO:info@lcam-md.com
END:VEVENT
BEGIN:VEVENT
DTSTART;TZID=America/New_York:20260415T180000
DTEND;TZID=America/New_York:20260415T200000
DTSTAMP:20260419T173143
CREATED:20260408T001258Z
LAST-MODIFIED:20260408T001915Z
UID:7995-1776276000-1776283200@latinochildcareassociationmd.com
SUMMARY:Únete a Nuestra Reunión Mensual de Abril 2026
DESCRIPTION:Reunión Mensual de Abril 2026\nTema: ¡Celebremos juntos el Mes del Niño Pequeño y Reconocimiento de los Educadores de la Primera Infancia! \n\n 
URL:https://latinochildcareassociationmd.com/event/unete-a-nuestra-reunion-mensual-de-abril-2026/
LOCATION:Maryland
CATEGORIES:Eventos
ATTACH;FMTTYPE=image/jpeg:https://latinochildcareassociationmd.com/wp-content/uploads/2026/04/Celebracion-del-mes-del-nino-pequeno-y-reconocimiento-de-los-educadores-de-primera-infancia-1-e1775607379898.jpeg
ORGANIZER;CN="LCAM":MAILTO:info@lcam-md.com
END:VEVENT
BEGIN:VEVENT
DTSTART;TZID=America/New_York:20260424T133000
DTEND;TZID=America/New_York:20260424T143000
DTSTAMP:20260419T173143
CREATED:20260407T233346Z
LAST-MODIFIED:20260407T234113Z
UID:7989-1777037400-1777041000@latinochildcareassociationmd.com
SUMMARY:Cafécito Entre Nos Abril 2026: Neurodivergencia en la infancia
DESCRIPTION:Neurodivergencia en la infancia: Del dianóstico a la organización del cuerpo y la participación real en los espacios de cuidado y educación infantil.\n\n \n\n*Evento para miembros activos.
URL:https://latinochildcareassociationmd.com/event/cafecito-entre-nos-abril-2026-neurodivergencia-en-la-infancia/
LOCATION:Maryland
CATEGORIES:Eventos
ATTACH;FMTTYPE=image/jpeg:https://latinochildcareassociationmd.com/wp-content/uploads/2025/03/Invitacion-a-Cafe-Entre-Nos-con-LCAM.jpg
ORGANIZER;CN="LCAM":MAILTO:info@lcam-md.com
END:VEVENT
END:VCALENDAR